BEGIN:VCALENDAR
VERSION:2.0
PRODID:-//SVP Werdenberg //NONSGML Events //EN
CALSCALE:GREGORIAN
X-WR-CALNAME:SVP Werdenberg
BEGIN:VEVENT
CREATED:20190208T083443Z
UID:328
DTEND:20231022T000000
DTSTART:20231022T000000
DTSTAMP:20260422T194323Z
LOCATION:
DESCRIPTION:
SUMMARY:Nationalratswahlen
ORGANIZER:
URL;VALUE=URI:https://www.svp-werdenberg.ch/termine/nationalratswahlen/
TRANSP:OPAQUE
END:VEVENT
END:VCALENDAR
