BEGIN:VCALENDAR
VERSION:2.0
PRODID:-//SVP Werdenberg //NONSGML Events //EN
CALSCALE:GREGORIAN
X-WR-CALNAME:SVP Werdenberg
BEGIN:VEVENT
CREATED:20240109T173247Z
UID:2109
DTEND:20240303T110000
DTSTART:20240303T100000
DTSTAMP:20260424T074629Z
LOCATION:
DESCRIPTION:[Kandidaten]
SUMMARY:Kantonsratswahlen Kanton St. Gallen
ORGANIZER:
URL;VALUE=URI:https://www.svp-werdenberg.ch/termine/kantonsratswahlen-kanton-st-gallen/
TRANSP:OPAQUE
END:VEVENT
END:VCALENDAR
