BEGIN:VCALENDAR
VERSION:2.0
PRODID:-//SVP Werdenberg //NONSGML Events //EN
CALSCALE:GREGORIAN
X-WR-CALNAME:SVP Werdenberg
BEGIN:VEVENT
CREATED:20200812T061503Z
UID:1545
DTEND:20200822T170000
DTSTART:20200822T110000
DTSTAMP:20260424T081232Z
LOCATION:Voralpsee
DESCRIPTION:Die SVP-Grabs lädt zum gemütlichen Grillplausch in der Voralp ein. L
SUMMARY:Öffentlicher Anlass: Grillplausch in der Voralp
ORGANIZER:SVP-Grabs
URL;VALUE=URI:https://www.svp-werdenberg.ch/termine/oeffentlicher-anlass-grillplausch-in-der-voralp/
TRANSP:OPAQUE
END:VEVENT
END:VCALENDAR
